View In:
ArcGIS JavaScript
ArcGIS Online Map Viewer
ArcGIS Earth
ArcMap
View Footprint In:
ArcGIS Online Map Viewer
Service Description: Hydrography/Community_Defined_Flood_Elevation
Name: Hydrography/Community_Defined_Flood_Elevation
Description:
Single Fused Map Cache: false
Extent:
XMin: -1.0162609398786068E7
YMin: 3543619.5366769196
XMax: -1.0112644398786068E7
YMax: 3596534.5366769196
Spatial Reference: 102100
(3857)
Initial Extent:
XMin: -1.0162609398786068E7
YMin: 3543619.5366769196
XMax: -1.0112644398786068E7
YMax: 3596534.5366769196
Spatial Reference: 102100
(3857)
Full Extent:
XMin: -1.0162609398786068E7
YMin: 3543619.5366769196
XMax: -1.0112644398786068E7
YMax: 3596534.5366769196
Spatial Reference: 102100
(3857)
Pixel Size X: 5.0
Pixel Size Y: 5.0
Band Count: 1
Pixel Type: F32
RasterFunction Infos: {"rasterFunctionInfos": [{
"name": "None",
"description": "",
"help": ""
}]}
Mensuration Capabilities: Basic
Has Histograms: true
Has Colormap: false
Has Multi Dimensions : false
Rendering Rule:
Min Scale: 0
Max Scale: 0
Copyright Text:
Service Data Type: esriImageServiceDataTypeGeneric
Min Values: 10.062829017639
Max Values: 205.50068664551
Mean Values: 61.437212729444
Standard Deviation Values: 32.347208551096
Object ID Field:
Fields:
None
Default Mosaic Method: Center
Allowed Mosaic Methods:
SortField:
SortValue: null
Mosaic Operator: First
Default Compression Quality: 75
Default Resampling Method: Bilinear
Max Record Count: null
Max Image Height: 4100
Max Image Width: 15000
Max Download Image Count: null
Max Mosaic Image Count: null
Allow Raster Function: true
Allow Copy: true
Allow Analysis: true
Allow Compute TiePoints: false
Supports Statistics: false
Supports Advanced Queries: false
Use StandardizedQueries: true
Raster Type Infos:
Name: Raster Dataset
Description: Supports all ArcGIS Raster Datasets
Help:
Has Raster Attribute Table: false
Edit Fields Info: null
Ownership Based AccessControl For Rasters: null
Child Resources:
Info
Histograms
Statistics
Key Properties
Legend
Raster Function Infos
Supported Operations:
Export Image
Identify
Measure
Compute Histograms
Compute Statistics Histograms
Get Samples
Compute Class Statistics
Query Boundary
Compute Pixel Location
Compute Angles
Validate
Project
EstimateExportTilesSize
ExportTiles