View In:
ArcGIS JavaScript
ArcGIS Online Map Viewer
ArcGIS Earth
ArcMap
ArcGIS Pro
View Footprint In:
ArcGIS Online Map Viewer
Service Description: Raster data classification for four classes including field, impervious surface, tree canopy, and water for East Baton Rouge Parish, Louisiana. Source imagery acquired from Eagleview captured in February and March of 2017 at six inch color near-infrared high resolution imagery. View metadata at https://city.brla.gov/gis/metadata/LAND_COVER_2017.html
Map Name: Layers
Legend
All Layers and Tables
Dynamic Legend
Dynamic All Layers
Layers:
Description: Raster data classification for four classes including field, impervious surface, tree canopy, and water for East Baton Rouge Parish, Louisiana. Source imagery acquired from Eagleview captured in February and March of 2017 at six inch color near-infrared high resolution imagery. View metadata at https://city.brla.gov/gis/metadata/LAND_COVER_2017.html
Copyright Text: EBRGIS; Department of Information Services
Spatial Reference:
102100
(3857)
Single Fused Map Cache: true
Tile Info:
- Height: 256
- Width: 256
- DPI: 96
-
Levels of Detail: 24
-
Level ID: 1
[ Start Tile, End Tile ]
- Resolution: 78271.5169639999
- Scale: 2.95828763795777E8
-
Level ID: 2
[ Start Tile, End Tile ]
- Resolution: 39135.7584820001
- Scale: 1.47914381897889E8
-
Level ID: 3
[ Start Tile, End Tile ]
- Resolution: 19567.8792409999
- Scale: 7.3957190948944E7
-
Level ID: 4
[ Start Tile, End Tile ]
- Resolution: 9783.93962049996
- Scale: 3.6978595474472E7
-
Level ID: 5
[ Start Tile, End Tile ]
- Resolution: 4891.96981024998
- Scale: 1.8489297737236E7
- Format: Mixed
- Compression Quality: 75.0
- Origin: X: -2.0037508342787E7
Y: 2.0037508342787E7
- Spatial Reference: 102100
(3857)
Storage Info:
- Storage Format: esriMapCacheStorageModeCompactV2
- Packet Size: 128
Initial Extent:
XMin: -1.018104924334471E7
YMin: 3541003.451110579
XMax: -1.0096917703175299E7
YMax: 3599118.644781394
Spatial Reference: 102100
(3857)
Full Extent:
XMin: -1.016526198956549E7
YMin: 3543707.545090958
XMax: -1.0112724083354002E7
YMax: 3596480.0321060056
Spatial Reference: 102100
(3857)
Units: esriMeters
Supported Image Format Types: PNG32,PNG24,PNG,JPG,DIB,TIFF,EMF,PS,PDF,GIF,SVG,SVGZ,BMP
Document Info:
Title: Untitled.aprx
Author:
Comments: Raster data classification for four classes including field, impervious surface, tree canopy, and water for East Baton Rouge Parish, Louisiana. Source imagery acquired from Eagleview captured in February and March of 2017 at six inch color near-infrared high resolution imagery. View metadata at https://city.brla.gov/gis/metadata/LAND_COVER_2017.html
Subject: 2017 Land Cover
Category:
Keywords: Land,Cover,Field,Impervious,Tree,Water,EBRP
AntialiasingMode: None
TextAntialiasingMode: Force
Supports Dynamic Layers: true
MaxRecordCount: 1000
MaxImageHeight: 4096
MaxImageWidth: 4096
Supported Query Formats: JSON, geoJSON, PBF
Supports Query Data Elements: true
Min Scale: 577790.554289
Max Scale: 564.248588
Min LOD: 10
Max LOD: 20
Supports Datum Transformation: true
Child Resources:
Info
Dynamic Layer
Supported Operations:
Export Map
Identify
QueryLegends
QueryDomains
Find
Return Updates