View In:
ArcGIS JavaScript
ArcGIS Online Map Viewer
ArcGIS Earth
ArcMap
ArcGIS Pro
View Footprint In:
ArcGIS Online Map Viewer
Service Description: Raster data classification for four classes including field, impervious surface, tree canopy, and water for the Ward Creek watershed in East Baton Rouge Parish, Louisiana. Source imagery acquired from USGS captured in May 2010 at one meter color near-infrared high resolution imagery.
Map Name: Layers
Legend
All Layers and Tables
Layers:
Description: Raster data classification for four classes including field, impervious surface, tree canopy, and water for the Ward Creek watershed in East Baton Rouge Parish, Louisiana. Source imagery acquired from USGS captured in May 2010 at one meter color near-infrared high resolution imagery.
Copyright Text: EBRGIS; Department of Information Services
Spatial Reference:
102100
(3857)
Single Fused Map Cache: true
Tile Info:
- Height: 256
- Width: 256
- DPI: 96
-
Levels of Detail: 24
-
Level ID: 1
[ Start Tile, End Tile ]
- Resolution: 78271.5169639999
- Scale: 2.95828763795777E8
-
Level ID: 2
[ Start Tile, End Tile ]
- Resolution: 39135.7584820001
- Scale: 1.47914381897889E8
-
Level ID: 3
[ Start Tile, End Tile ]
- Resolution: 19567.8792409999
- Scale: 7.3957190948944E7
-
Level ID: 4
[ Start Tile, End Tile ]
- Resolution: 9783.93962049996
- Scale: 3.6978595474472E7
-
Level ID: 5
[ Start Tile, End Tile ]
- Resolution: 4891.96981024998
- Scale: 1.8489297737236E7
- Format: Mixed
- Compression Quality: 75.0
- Origin: X: -2.0037508342787E7
Y: 2.0037508342787E7
- Spatial Reference: 102100
(3857)
Storage Info:
- Storage Format: esriMapCacheStorageModeCompactV2
- Packet Size: 128
Initial Extent:
XMin: -1.0151767714909729E7
YMin: 3546146.10680358
XMax: -1.012222863639503E7
YMax: 3566566.1138998442
Spatial Reference: 102100
(3857)
Full Extent:
XMin: -1.0166050899493838E7
YMin: 3542762.142351578
XMax: -1.0111893165922916E7
YMax: 3600899.0460078246
Spatial Reference: 102100
(3857)
Units: esriMeters
Supported Image Format Types: PNG32,PNG24,PNG,JPG,DIB,TIFF,EMF,PS,PDF,GIF,SVG,SVGZ,BMP
Document Info:
Title: Untitled.aprx
Author:
Comments: Raster data classification for four classes including field, impervious surface, tree canopy, and water for the Ward Creek watershed in East Baton Rouge Parish, Louisiana. Source imagery acquired from USGS captured in May 2010 at one meter color near-infrared high resolution imagery.
Subject: 2010 Ward Creek Watershed Land Cover
Category:
Keywords: Land,Cover,Ward Creek,Watershed,EBRP
AntialiasingMode: None
TextAntialiasingMode: Force
Supports Dynamic Layers: false
MaxRecordCount: 1000
MaxImageHeight: 4096
MaxImageWidth: 4096
Supported Query Formats: JSON, geoJSON, PBF
Supports Query Data Elements: true
Min Scale: 577790.554289
Max Scale: 564.248588
Min LOD: 10
Max LOD: 20
Supports Datum Transformation: true
Child Resources:
Info
Supported Operations:
Export Map
Identify
QueryLegends
QueryDomains
Find
Return Updates